BEGIN:VCALENDAR
VERSION:2.0
PRODID:spatie/icalendar-generator
DESCRIPTION:Events from Mississippi Valley Amateur Radio Association - La C
 rosse\, Wisconsin Ham Radio Club
X-WR-CALDESC:Events from Mississippi Valley Amateur Radio Association - La 
 Crosse\, Wisconsin Ham Radio Club
REFRESH-INTERVAL;VALUE=DURATION:PT1440M
X-PUBLISHED-TTL:PT1440M
BEGIN:VTIMEZONE
TZID:America/Chicago
BEGIN:STANDARD
DTSTART:20251102T020000Z
TZOFFSETFROM:-0500
TZOFFSETTO:-0600
END:STANDARD
BEGIN:DAYLIGHT
DTSTART:20260308T020000Z
TZOFFSETFROM:-0600
TZOFFSETTO:-0500
END:DAYLIGHT
BEGIN:STANDARD
DTSTART:20261101T020000Z
TZOFFSETFROM:-0500
TZOFFSETTO:-0600
END:STANDARD
END:VTIMEZONE
BEGIN:VTIMEZONE
TZID:UTC
BEGIN:STANDARD
DTSTART:20250724T021057Z
TZOFFSETFROM:+0000
TZOFFSETTO:+0000
END:STANDARD
END:VTIMEZONE
BEGIN:VEVENT
UID:413-41
DTSTAMP:20260420T021057Z
SUMMARY:Raffle Drawing
LOCATION:
ORGANIZER;CN=KA9FOX:MAILTO:ka9fox@qth.com
DTSTART;TZID=America/Chicago:20260603T180000
DTEND;TZID=America/Chicago:20260603T190000
X-ALT-DESC;FMTTYPE=TEXT/HTML:2026 MVARA Fundraiser Raffle Drawing Drawing t
 akes place at 6pm on June 3\, 2026\, at the American Legion in Onalaska\, 
 WI.  The public is welcome to attend.
CATEGORIES:General
URL;VALUE=URI:https://www.mvara.net/mc-events/raffle-drawing/
METHOD:PUBLISH
END:VEVENT
END:VCALENDAR